BEGIN:VCALENDAR
VERSION:2.0
PRODID:-//wp-events-plugin.com//7.2.3.1//EN
BEGIN:VEVENT
UID:6@njblf.org
DTSTART:20230626T180000Z
DTEND:20230626T210000Z
DTSTAMP:20230921T161930Z
URL:https://njblf.org/events/a-night-at-hopewell-valley-vineyards/
SUMMARY:A Night at Hopewell Valley Vineyards
DESCRIPTION:
ATTACH;FMTTYPE=image/jpeg:https://njblf.org/wp-content/uploads/2023/09/win
 e.webp
END:VEVENT
END:VCALENDAR