BEGIN:VCALENDAR
VERSION:2.0
PRODID:-//wp-events-plugin.com//7.2.3.1//EN
BEGIN:VEVENT
UID:2@njblf.org
DTSTART:20230927T110000Z
DTEND:20230927T190000Z
DTSTAMP:20230921T161727Z
URL:https://njblf.org/events/annual-golf-tennis-and-pickleball-outing/
SUMMARY:Annual Golf\, Tennis\, and Pickleball Outing
DESCRIPTION:\n\nJoin us for the Annual New Jersey Bankruptcy Lawyers Founda
 tion Dinner with a Golf\, Tennis\, and Pickleball Outing held at the Maple
 wood Country Club\, co-sponsored by NJSBA. In addition to the full day op
 tion of Golf\, Tennis or Pickleball\, we have added a golf clinic for thos
 e who would like to simply sharpen their skills or can’t commit to a ful
 l day event\, as well as swimming activities for those looking to spend a 
 little more time in the sun. We’ll end the day with cocktails\, food and
  prizes.\n\nGolf Foursomes will first be paired by personal requests and 
 then based on level of play – please provide your handicap when register
 ing. Enjoy brunch followed by a shotgun start for a golf scramble\, and en
 d the day with cocktails and a buffet dinner with your fellow golfers\, te
 nnis players and pickleballers. Play your best and maybe win a prize for 
 ‘closest to the pin’\, ‘longest drive’\, ‘lowest net’\, or oth
 er challenges along the course. See more about the course  here .\n\nTe
 nnis warm-ups and clinic will be facilitated by the Tennis Pro followed b
 y a round-robin. Prizes will be given\, so bring your A-game. Enjoy brunch
  with the golfers\, and then make your way to the courts for a great worko
 ut. End the day with the cocktail reception and buffet dinner. See more ab
 out the club  here .\n\nPickleball warm-ups and clinic will be facilit
 ated by the Pickleball Pro followed by a round-robin . This clinic is open
  to beginners who have little to no playing experience. Paddles and balls 
 will be provided if you don’t have your own set. Enjoy brunch with the g
 olfers\, and then make your way to the courts for a great workout. End the
  day with the cocktail reception and buffet dinner. See more about the clu
 b  here .\n\nThe golf clinic is the perfect activity for someone unab
 le to attend and play the full day. Whether you want to brush up on your g
 ame or are new to golf\, join us for a 2-hour clinic to get the swing of
  things. And\, after the clinic\, join everybody at the cocktail reception
  and buffet dinner!\n\nFeel free to just join us for cocktails and dinner
  if you don’t have time to participate in the other activities. We hop
 e to see you there.\n\n\nAGENDA\n11:00 am – Registration\n11:00 am – B
 runch\n12:00 pm – Golf Shotgun\n1:00 pm – Tennis and/or Pickleball\n3:
 00 pm – Golf Clinic\n5:00 pm – Cocktail Reception and Buffet Dinner\nE
 vent concludes by 7:30PM\n&nbsp\;\nCOST \nVaries based on activity\n\n\n\n
 Golf (includes brunch and dinner)\n$390.00\n\n\nGolf clinic (includes dinn
 er)\n$130.00\n\n\nTennis (includes brunch and dinner)\n$225.00\n\n\nPickle
 ball (includes brunch and dinner)\n$225.00\n\n\nCocktail Reception Only\n$
 110.00\n\n\nGovernment Employee Golf (includes brunch and dinner)\n$280.00
 \n\n\nGovernment Employee Golf Clinic (includes dinner)\n$95.00\n\n\nGover
 nment Employee Tennis (includes brunch and dinner)\n$150.00\n\n\nGovernmen
 t Employee Cocktail Reception Only\n$75.00\n\n\n\n\nIf you need assistance
 \, please contact Sarah Kuhns at skuhns@njblf.org\n\n\n
ATTACH;FMTTYPE=image/jpeg:https://njblf.org/wp-content/uploads/2023/09/gol
 f-thumbnail.webp
LOCATION:Maplewood Country Club\, 28 Baker St\, Maplewood\, NJ\, 07040\, Un
 ited States
X-APPLE-STRUCTURED-LOCATION;VALUE=URI;X-ADDRESS=28 Baker St\, Maplewood\, N
 J\, 07040\, United States;X-APPLE-RADIUS=100;X-TITLE=Maplewood Country Clu
 b:geo:0,0
END:VEVENT
END:VCALENDAR