BEGIN:VCALENDAR
VERSION:2.0
PRODID:-//wp-events-plugin.com//7.2.3.1//EN
BEGIN:VEVENT
UID:27@njblf.org
DTSTART:20260618T180000Z
DTEND:20260618T210000Z
DTSTAMP:20250710T201304Z
URL:https://njblf.org/events/annual-wine-tasting/
SUMMARY:Annual Wine Tasting
DESCRIPTION:Save the date - more information to follow. Date subject to cha
 nge.
END:VEVENT
END:VCALENDAR