BEGIN:VCALENDAR
VERSION:2.0
PRODID:-//wp-events-plugin.com//7.2.3.1//EN
BEGIN:VEVENT
UID:17@njblf.org
DTSTART;TZID=America/New_York:20251007T180000
DTEND;TZID=America/New_York:20251007T210000
DTSTAMP:20251001T173647Z
URL:https://njblf.org/events/evening-of-celebration-2025/
SUMMARY:Evening of Celebration 2025
DESCRIPTION:The New Jersey Bankruptcy Lawyers Foundation invites you to an 
 Evening of Celebration and Awards on October 7th at Cuzin's Seafood &amp\;
  Clam Bar. We hope you'll come support the mission of NJBLF.\nAnnouncing o
 ur Honorees \n\nLifetime Achievement Award\nCharles Forman (presented by 
 Martha Hildebrandt\, Assistant U.S. Trustee (Ret.)\n\nHugh M. Leonard Awar
 d\nStephen Falanga (presented by Judge Rosemary Gambardella (Ret.)\n\nFutu
 re Leader Award\nRoss Switkes (presented by Chief Judge Christine Gravelle
 )\n\nVolunteer of the Year Award\nMeaghan Tuohey (presented by Barry Roy)\
 nThis Annual Evening of Celebration Gala is co-sponsored by\nAFBNJ\, IWIRC
  NJ\, NJSBA\, and TMA NJ\nIf you have questions\, please contact skuhns@nj
 blf.org.\n\nTHIS EVENT IS SOLD OUT - REGISTRATION IS CLOSED 
ATTACH;FMTTYPE=image/jpeg:https://njblf.org/wp-content/uploads/2025/05/10.
 07_NJBLFGala_register_R3_website.jpg
LOCATION:Cuzin's Clam Bar\, 78 Albany St\, New Brunswick\, NJ\, 08901\, Uni
 ted States
X-APPLE-STRUCTURED-LOCATION;VALUE=URI;X-ADDRESS=78 Albany St\, New Brunswic
 k\, NJ\, 08901\, United States;X-APPLE-RADIUS=100;X-TITLE=Cuzin's Clam Bar
 :geo:0,0
END:VEVENT
BEGIN:VTIMEZONE
TZID:America/New_York
X-LIC-LOCATION:America/New_York
BEGIN:DAYLIGHT
DTSTART:20250309T030000
TZOFFSETFROM:-0500
TZOFFSETTO:-0400
TZNAME:EDT
END:DAYLIGHT
END:VTIMEZONE
END:VCALENDAR