BEGIN:VCALENDAR
VERSION:2.0
PRODID:-//wp-events-plugin.com//7.2.3.1//EN
BEGIN:VEVENT
UID:3@njblf.org
DTSTART:20231023T180000Z
DTEND:20231023T210000Z
DTSTAMP:20230928T165304Z
URL:https://njblf.org/events/evening-of-celebration/
SUMMARY:Evening of Celebration
DESCRIPTION:\nThe New Jersey Bankruptcy Lawyers Foundation &amp\; Associati
 on of the Federal Bar of New Jersey invite you to join them in an Evening 
 of Celebration on October 23rd at Catherine Lombardi’s. We hope you’ll
  come support the mission of NJBLF &amp\; AFBNJ.\nCOST\nGeneral Attendee: 
 $200\nGov’t Employee: $150
ATTACH;FMTTYPE=image/jpeg:https://njblf.org/wp-content/uploads/2023/09/cel
 ebrate-thumbnail.webp
LOCATION:Catherine Lombardi’s\, 3 Livingston Ave.\, New Brunswick\, NJ\, 
 08901\, United States
X-APPLE-STRUCTURED-LOCATION;VALUE=URI;X-ADDRESS=3 Livingston Ave.\, New Bru
 nswick\, NJ\, 08901\, United States;X-APPLE-RADIUS=100;X-TITLE=Catherine L
 ombardi’s:geo:0,0
END:VEVENT
END:VCALENDAR