BEGIN:VCALENDAR
VERSION:2.0
PRODID:-//wp-events-plugin.com//7.2.3.1//EN
BEGIN:VEVENT
UID:8@njblf.org
DTSTART;TZID=America/New_York:20231116T180000
DTEND;TZID=America/New_York:20231116T210000
DTSTAMP:20231025T151851Z
URL:https://njblf.org/events/the-annual-judge-wizmur-volunteer-appreciatio
 n-event/
SUMMARY:The Annual Judge Wizmur Volunteer Appreciation Event
DESCRIPTION:\nVolunteer Appreciation Event\nThe New Jersey Bankruptcy Lawye
 rs Foundation &amp\; Rutgers Law School invite you to join them in honorin
 g our volunteers on November 16th at Rutgers Law School\, 217 N. Fifth Str
 eet in Camden\, NJ. We’ll be presenting the Robert Cooper Excellence Awa
 rd to a Law Student as we enjoy food and drinks. We hope you’ll come hon
 or the devoted\, now retired volunteers!\n\nCOST\nPrivate Practitioners: $
 50\nLegal Services Staff: $20\n
LOCATION:Rutgers Law School\, 217 N. Fifth Street\, 2nd floor “Bridge"\, 
 Camden\, NJ\, 08102\, United States
X-APPLE-STRUCTURED-LOCATION;VALUE=URI;X-ADDRESS=217 N. Fifth Street\, 2nd f
 loor “Bridge\"\, Camden\, NJ\, 08102\, United States;X-APPLE-RADIUS=100;
 X-TITLE=Rutgers Law School:geo:0,0
END:VEVENT
BEGIN:VTIMEZONE
TZID:America/New_York
X-LIC-LOCATION:America/New_York
BEGIN:STANDARD
DTSTART:20231105T010000
TZOFFSETFROM:-0400
TZOFFSETTO:-0500
TZNAME:EST
END:STANDARD
END:VTIMEZONE
END:VCALENDAR