BEGIN:VCALENDAR
VERSION:2.0
PRODID:-//wp-events-plugin.com//7.2.3.1//EN
BEGIN:VEVENT
UID:21@njblf.org
DTSTART;TZID=America/New_York:20260421T120000
DTEND;TZID=America/New_York:20260421T123000
DTSTAMP:20260224T031846Z
URL:https://njblf.org/events/virtual-open-house-4/
SUMMARY:Virtual Open House
DESCRIPTION:Did you know the New Jersey Bankruptcy Lawyers Foundation was c
 reated to raise funds from the bankruptcy bar and its associates to assist
  debtors and other financially distressed individuals?\n\nNJBLF is a priva
 tely funded\, statewide\, nonprofit organization committed to reaching out
  to individuals in genuine need of financial assistance. Its mission is to
  give back to the system in which it works every day.\n\nJoin our Virtual 
 Open House on April 21 to learn more about our organization\, ask question
 s\, and get a preview of what’s ahead!\n\nREGISTER HERE
ATTACH;FMTTYPE=image/jpeg:https://njblf.org/wp-content/uploads/2025/06/NJB
 LFVirtualOpenHouse_1200x627LI-April21.png
END:VEVENT
BEGIN:VTIMEZONE
TZID:America/New_York
X-LIC-LOCATION:America/New_York
BEGIN:DAYLIGHT
DTSTART:20260308T030000
TZOFFSETFROM:-0500
TZOFFSETTO:-0400
TZNAME:EDT
END:DAYLIGHT
END:VTIMEZONE
END:VCALENDAR